BEGIN:VCALENDAR
VERSION:2.0
PRODID:-//Rosemount Center - ECPv6.15.20//NONSGML v1.0//EN
CALSCALE:GREGORIAN
METHOD:PUBLISH
X-ORIGINAL-URL:https://www.rosemountcenter.com
X-WR-CALDESC:Events for Rosemount Center
REFRESH-INTERVAL;VALUE=DURATION:PT1H
X-Robots-Tag:noindex
X-PUBLISHED-TTL:PT1H
BEGIN:VTIMEZONE
TZID:America/New_York
BEGIN:DAYLIGHT
TZOFFSETFROM:-0500
TZOFFSETTO:-0400
TZNAME:EDT
DTSTART:20220313T070000
END:DAYLIGHT
BEGIN:STANDARD
TZOFFSETFROM:-0400
TZOFFSETTO:-0500
TZNAME:EST
DTSTART:20221106T060000
END:STANDARD
BEGIN:DAYLIGHT
TZOFFSETFROM:-0500
TZOFFSETTO:-0400
TZNAME:EDT
DTSTART:20230312T070000
END:DAYLIGHT
BEGIN:STANDARD
TZOFFSETFROM:-0400
TZOFFSETTO:-0500
TZNAME:EST
DTSTART:20231105T060000
END:STANDARD
BEGIN:DAYLIGHT
TZOFFSETFROM:-0500
TZOFFSETTO:-0400
TZNAME:EDT
DTSTART:20240310T070000
END:DAYLIGHT
BEGIN:STANDARD
TZOFFSETFROM:-0400
TZOFFSETTO:-0500
TZNAME:EST
DTSTART:20241103T060000
END:STANDARD
END:VTIMEZONE
BEGIN:VTIMEZONE
TZID:America/Chicago
BEGIN:DAYLIGHT
TZOFFSETFROM:-0600
TZOFFSETTO:-0500
TZNAME:CDT
DTSTART:20220313T080000
END:DAYLIGHT
BEGIN:STANDARD
TZOFFSETFROM:-0500
TZOFFSETTO:-0600
TZNAME:CST
DTSTART:20221106T070000
END:STANDARD
BEGIN:DAYLIGHT
TZOFFSETFROM:-0600
TZOFFSETTO:-0500
TZNAME:CDT
DTSTART:20230312T080000
END:DAYLIGHT
BEGIN:STANDARD
TZOFFSETFROM:-0500
TZOFFSETTO:-0600
TZNAME:CST
DTSTART:20231105T070000
END:STANDARD
BEGIN:DAYLIGHT
TZOFFSETFROM:-0600
TZOFFSETTO:-0500
TZNAME:CDT
DTSTART:20240310T080000
END:DAYLIGHT
BEGIN:STANDARD
TZOFFSETFROM:-0500
TZOFFSETTO:-0600
TZNAME:CST
DTSTART:20241103T070000
END:STANDARD
END:VTIMEZONE
BEGIN:VEVENT
DTSTART;VALUE=DATE:20231009
DTEND;VALUE=DATE:20231010
DTSTAMP:20260421T051355
CREATED:20230314T191247Z
LAST-MODIFIED:20230314T191247Z
UID:10000036-1696809600-1696895999@www.rosemountcenter.com
SUMMARY:Indigenous Peoples Day
DESCRIPTION:The center will be closed Monday October 9\, 2023. \n 
URL:https://www.rosemountcenter.com/calendar/indigenous-peoples-day-2023/
ATTACH;FMTTYPE=image/png:https://www.rosemountcenter.com/wp-content/uploads/2022/09/Indigenous-Peoples-Day.png
END:VEVENT
BEGIN:VEVENT
DTSTART;VALUE=DATE:20231020
DTEND;VALUE=DATE:20231021
DTSTAMP:20260421T051355
CREATED:20230314T191339Z
LAST-MODIFIED:20230314T191339Z
UID:10000037-1697760000-1697846399@www.rosemountcenter.com
SUMMARY:Staff Development
DESCRIPTION:There will be a staff development day on Friday\, October 20\, 2023.
URL:https://www.rosemountcenter.com/calendar/staff-development-3/
ATTACH;FMTTYPE=image/png:https://www.rosemountcenter.com/wp-content/uploads/2022/09/Staff-Development-Day.png
END:VEVENT
BEGIN:VEVENT
DTSTART;VALUE=DATE:20231021
DTEND;VALUE=DATE:20231022
DTSTAMP:20260421T051355
CREATED:20230314T191705Z
LAST-MODIFIED:20230915T132728Z
UID:10000038-1697846400-1697932799@www.rosemountcenter.com
SUMMARY:POSTPONED - Fall Fiesta Fundraiser 2023
DESCRIPTION: 
URL:https://www.rosemountcenter.com/calendar/fall-fiesta-fundraiser-2023/
CATEGORIES:Support Rosemount
ATTACH;FMTTYPE=image/png:https://www.rosemountcenter.com/wp-content/uploads/2022/08/post-default-image.png
END:VEVENT
END:VCALENDAR